BEGIN:VCALENDAR
VERSION:2.0
METHOD:PUBLISH
BEGIN:VEVENT
UID:event_69e62ab0cad430.81306916@pflegecampus.de
DTSTAMP:20260420T153128
DTSTART:20260423T140000
DTEND:20260423T142000
SUMMARY:Arzneimittel sicher anwenden – von Tropfer bis Inhalator
DESCRIPTION:Arzneimittel sicher anwenden: Worauf es bei Lagerung und Applikation ankommt. Typische Fehler vermeiden und die Sicherheit im Umgang gezielt erhöhen.
LOCATION:ALTENPFLEGE 2026 – Die Leitmesse der Pflegebranche Essen
CLASS:PUBLIC
BEGIN:VALARM
TRIGGER:-PT10080M
ACTION:DISPLAY
DESCRIPTION:Reminder
END:VALARM
END:VEVENT
END:VCALENDAR
