BEGIN:VCALENDAR
VERSION:2.0
METHOD:PUBLISH
BEGIN:VEVENT
UID:event_69e62bb4420176.36121188@pflegecampus.de
DTSTAMP:20260420T153548
DTSTART:20260423T130000
DTEND:20260423T132000
SUMMARY:Brandschutz #Shorts: Evakuierung von Menschen mit Mobilitätseinschränkungen
DESCRIPTION:Es brennt – wie gelingt jetzt die schnelle und sichere Evakuierung? Feuerwehrmann Björn Kuiper zeigt die wichtigsten Maßnahmen, Hilfsmittel und Tipps für den Ernstfall.
LOCATION:ALTENPFLEGE 2026 – Die Leitmesse der Pflegebranche Essen
CLASS:PUBLIC
BEGIN:VALARM
TRIGGER:-PT10080M
ACTION:DISPLAY
DESCRIPTION:Reminder
END:VALARM
END:VEVENT
END:VCALENDAR
