BEGIN:VCALENDAR
VERSION:2.0
METHOD:PUBLISH
BEGIN:VEVENT
UID:event_69e62b60800f59.48116792@pflegecampus.de
DTSTAMP:20260420T153424
DTSTART:20260423T143000
DTEND:20260423T145000
SUMMARY:Prüf-Cockpit & Arbeitsschutz: Prüfungen sicher meistern
DESCRIPTION:
Prüfungen sicher meistern – mit Prüf-Cockpit & Arbeitsschutz: Erkennen Sie Lücken frühzeitig und erstellen Sie Gefährdungsbeurteilungen digital und KI-gestützt.

LOCATION:ALTENPFLEGE 2026 – Die Leitmesse der Pflegebranche Essen
CLASS:PUBLIC
BEGIN:VALARM
TRIGGER:-PT10080M
ACTION:DISPLAY
DESCRIPTION:Reminder
END:VALARM
END:VEVENT
END:VCALENDAR
