BEGIN:VCALENDAR
VERSION:2.0
METHOD:PUBLISH
BEGIN:VEVENT
UID:event_69e62c2c4874f5.30381665@pflegecampus.de
DTSTAMP:20260420T153748
DTSTART:20260422T143000
DTEND:20260422T145000
SUMMARY:Krankheitsbild Demenz - praxisnah mit Proband
DESCRIPTION:Demenz kompakt und praxisnah: Erleben Sie das Krankheitsbild interaktiv. Erfahren Sie Symptome, Formen und Therapieansätze – für mehr Sicherheit im Umgang mit Betroffenen und Angehörigen.
LOCATION:ALTENPFLEGE 2026 – Die Leitmesse der Pflegebranche Essen
CLASS:PUBLIC
BEGIN:VALARM
TRIGGER:-PT10080M
ACTION:DISPLAY
DESCRIPTION:Reminder
END:VALARM
END:VEVENT
END:VCALENDAR
