BEGIN:VCALENDAR
VERSION:2.0
METHOD:PUBLISH
BEGIN:VEVENT
UID:event_69e62b5682f641.07189379@pflegecampus.de
DTSTAMP:20260420T153414
DTSTART:20260422T133000
DTEND:20260422T135000
SUMMARY:Erfolge sichtbar machen: Mit Kennzahlen zum Unternehmenserfolg
DESCRIPTION:Kennzahlen, die wirklich etwas bringen: Erfahren Sie, wie Sie Daten gezielt nutzen, statt sie nur zu sammeln. In 20 Minuten erhalten Sie 4 klare Impulse – von der Auswahl der richtigen KPIs bis zur Integration in den PDCA-Zyklus.
LOCATION:ALTENPFLEGE 2026 – Die Leitmesse der Pflegebranche Essen
CLASS:PUBLIC
BEGIN:VALARM
TRIGGER:-PT10080M
ACTION:DISPLAY
DESCRIPTION:Reminder
END:VALARM
END:VEVENT
END:VCALENDAR
