BEGIN:VCALENDAR
VERSION:2.0
METHOD:PUBLISH
BEGIN:VEVENT
UID:event_69e62b8431ec09.31433622@pflegecampus.de
DTSTAMP:20260420T153500
DTSTART:20260422T130000
DTEND:20260422T132000
SUMMARY:Spritpreisschock im Pflegedienst – was hilft jetzt wirklich?
DESCRIPTION:Spritpreise steigen – und setzen ambulante Dienste unter Druck. Unser Experte Ben Keller zeigt Zahlen, Insights und konkrete Hebel, mit denen Sie jetzt gegensteuern.
LOCATION:ALTENPFLEGE 2026 – Die Leitmesse der Pflegebranche Essen
CLASS:PUBLIC
BEGIN:VALARM
TRIGGER:-PT10080M
ACTION:DISPLAY
DESCRIPTION:Reminder
END:VALARM
END:VEVENT
END:VCALENDAR
