BEGIN:VCALENDAR
VERSION:2.0
METHOD:PUBLISH
BEGIN:VEVENT
UID:event_69e62b56829ef8.28951446@pflegecampus.de
DTSTAMP:20260420T153414
DTSTART:20260422T113000
DTEND:20260422T115000
SUMMARY:Polypharmazie im Alter: Weniger ist manchmal mehr
DESCRIPTION:Polypharmazie im Alter sicher im Blick: Erfahren Sie, wie Sie Arzneimitteltherapien optimieren und die Lebensqualität Ihrer Pflegebedürftigen aktiv fördern – praxisnah und verständlich mit Proband.
LOCATION:ALTENPFLEGE 2026 – Die Leitmesse der Pflegebranche Essen
CLASS:PUBLIC
BEGIN:VALARM
TRIGGER:-PT10080M
ACTION:DISPLAY
DESCRIPTION:Reminder
END:VALARM
END:VEVENT
END:VCALENDAR
