BEGIN:VCALENDAR
VERSION:2.0
METHOD:PUBLISH
BEGIN:VEVENT
UID:event_69e62c09249939.67552840@pflegecampus.de
DTSTAMP:20260420T153713
DTSTART:20260422T110000
DTEND:20260422T112000
SUMMARY:Formelles vs. informelles Lernen – 90 % passiert sowieso im Alltag
DESCRIPTION:Ein Großteil des Lernens passiert im Alltag – erfahren Sie von Frau Praxisanleiter, wie Sie diese Momente gezielt erkennen und in nachhaltige Ausbildung überführen.
LOCATION:ALTENPFLEGE 2026 – Die Leitmesse der Pflegebranche Essen
CLASS:PUBLIC
BEGIN:VALARM
TRIGGER:-PT10080M
ACTION:DISPLAY
DESCRIPTION:Reminder
END:VALARM
END:VEVENT
END:VCALENDAR
