BEGIN:VCALENDAR
VERSION:2.0
METHOD:PUBLISH
BEGIN:VEVENT
UID:event_69e62b60802b15.31988561@pflegecampus.de
DTSTAMP:20260420T153424
DTSTART:20260421T153000
DTEND:20260421T155000
SUMMARY:Brandschutz #Shorts: 3 Tipps, die Sie sofort umsetzen können
DESCRIPTION:Kompakt und praxisnah: So vermeiden Sie Brände und handeln im Ernstfall richtig. Erfahren Sie drei einfache, aber effektive Maßnahmen, um Risiken zu minimieren und sich sowie andere zu schützen.
LOCATION:ALTENPFLEGE 2026 – Die Leitmesse der Pflegebranche Essen
CLASS:PUBLIC
BEGIN:VALARM
TRIGGER:-PT10080M
ACTION:DISPLAY
DESCRIPTION:Reminder
END:VALARM
END:VEVENT
END:VCALENDAR
