BEGIN:VCALENDAR
VERSION:2.0
METHOD:PUBLISH
BEGIN:VEVENT
UID:event_69e62b0e291739.90340160@pflegecampus.de
DTSTAMP:20260420T153302
DTSTART:20260421T143000
DTEND:20260421T145000
SUMMARY:Gamechanger KI: Ihr smarter Assistent im Arbeitsalltag
DESCRIPTION:KI verstehen, einordnen, nutzen: So wird sie zum echten Gamechanger im Pflegealltag. Spannende Einblicke in Einsatzmöglichkeiten und sicheren Umgang – direkt von Ihren Experten für Datenschutz und Compliance.
LOCATION:ALTENPFLEGE 2026 – Die Leitmesse der Pflegebranche Essen
CLASS:PUBLIC
BEGIN:VALARM
TRIGGER:-PT10080M
ACTION:DISPLAY
DESCRIPTION:Reminder
END:VALARM
END:VEVENT
END:VCALENDAR
