BEGIN:VCALENDAR
VERSION:2.0
METHOD:PUBLISH
BEGIN:VEVENT
UID:event_69e62b07d02913.22522233@pflegecampus.de
DTSTAMP:20260420T153255
DTSTART:20260421T123000
DTEND:20260421T125000
SUMMARY:Mobilisation im Pflegebett – ergonomisch arbeiten, sicher bewegen
DESCRIPTION:Erleben Sie live am Pflegebett, welche Kräfte wirklich auf Ihren Rücken wirken – und wie Sie diese gezielt reduzieren und Hilfsmittel richtig einsetzen.
LOCATION:ALTENPFLEGE 2026 – Die Leitmesse der Pflegebranche Essen
CLASS:PUBLIC
BEGIN:VALARM
TRIGGER:-PT10080M
ACTION:DISPLAY
DESCRIPTION:Reminder
END:VALARM
END:VEVENT
END:VCALENDAR
