BEGIN:VCALENDAR
VERSION:2.0
METHOD:PUBLISH
BEGIN:VEVENT
UID:event_69e62bb99eb906.68193603@pflegecampus.de
DTSTAMP:20260420T153553
DTSTART:20260421T103000
DTEND:20260421T105000
SUMMARY:Spritpreisschock im Pflegedienst – was hilft jetzt wirklich?
DESCRIPTION:Spritpreise steigen – und setzen ambulante Dienste unter Druck. Unser Experte Ben Keller zeigt Zahlen, Insights und konkrete Hebel, mit denen Sie jetzt gegensteuern.
LOCATION:ALTENPFLEGE 2026 – Die Leitmesse der Pflegebranche Essen
CLASS:PUBLIC
BEGIN:VALARM
TRIGGER:-PT10080M
ACTION:DISPLAY
DESCRIPTION:Reminder
END:VALARM
END:VEVENT
END:VCALENDAR
